
BEGIN:VCALENDAR
VERSION:2.0
PRODID:-//TravPholer 無待壯遊 - ECPv6.14.1//NONSGML v1.0//EN
CALSCALE:GREGORIAN
METHOD:PUBLISH
X-WR-CALNAME:TravPholer 無待壯遊
X-ORIGINAL-URL:https://travpholer.com
X-WR-CALDESC:Events for TravPholer 無待壯遊
REFRESH-INTERVAL;VALUE=DURATION:PT1H
X-Robots-Tag:noindex
X-PUBLISHED-TTL:PT1H
BEGIN:VTIMEZONE
TZID:Asia/Hong_Kong
BEGIN:STANDARD
TZOFFSETFROM:+0800
TZOFFSETTO:+0800
TZNAME:HKT
DTSTART:20250101T000000
END:STANDARD
END:VTIMEZONE
BEGIN:VEVENT
DTSTART;TZID=Asia/Hong_Kong:20250302T170000
DTEND;TZID=Asia/Hong_Kong:20250302T180000
DTSTAMP:20260420T195516
CREATED:20250221T092155Z
LAST-MODIFIED:20250221T092155Z
UID:10000556-1740934800-1740938400@travpholer.com
SUMMARY:乍得🇹🇩 尼日爾🇳🇪 撒哈拉國家遊牧獵奇之旅
DESCRIPTION:在世界另一邊，人們依靠一望無際的沙漠維生，一片蒼茫之間，只有風沙磨擦的聲音；所以比起去城市旅行，Paul選擇來到撒哈拉沙漠國家，了解當地遊牧生活，特別是乍得、尼日爾，展開一生人一次的獵奇之旅！ \n 
URL:https://travpholer.com/event/03022025wa/
LOCATION:尖沙咀誠品書店\, Tsim Sha Tsui\, Salisbury Rd\, 3號\, Star House\, 2-3/F\, Kowloon\, Hong Kong
END:VEVENT
BEGIN:VEVENT
DTSTART;TZID=Asia/Hong_Kong:20250216T150000
DTEND;TZID=Asia/Hong_Kong:20250216T160000
DTSTAMP:20260420T195516
CREATED:20250114T101745Z
LAST-MODIFIED:20250114T101745Z
UID:10000555-1739718000-1739721600@travpholer.com
SUMMARY:剛果 盧旺達 貝隆地：非洲中部叢林 🦍黑猩猩之旅
DESCRIPTION:是次講座，Alfred會為大家揭開剛果、盧旺達和貝隆地的神秘面紗，帶領大家深入了解非洲中部叢林的🦍黑猩猩之旅，探索這些地區如何融合了古老的部落文化和現代理念，形成一種獨特的自然哲學。這次旅程將帶大家了解黑猩猩的生活習性和現狀，並深入介紹當地的部落文化，體驗這片土地上獨特的生命與自然的和諧共存。
URL:https://travpholer.com/event/kingkong0219/
LOCATION:尖沙咀誠品書店\, Tsim Sha Tsui\, Salisbury Rd\, 3號\, Star House\, 2-3/F\, Kowloon\, Hong Kong
END:VEVENT
BEGIN:VEVENT
DTSTART;TZID=Asia/Hong_Kong:20250112T163000
DTEND;TZID=Asia/Hong_Kong:20250112T173000
DTSTAMP:20260420T195516
CREATED:20250105T084908Z
LAST-MODIFIED:20250105T084908Z
UID:10000553-1736699400-1736703000@travpholer.com
SUMMARY:深入北韓「金氏王朝」
DESCRIPTION:北韓，一個被層層神秘面紗包裹的國度，長期以來吸引著全球旅行家，近年更加長期封關，成為旅客禁區。北韓經常在國際新聞上經常出現，在人們心中既熟悉又陌生。這片土地的日常生活、文化風貌、獨特的政治體制，我們只能透過有限資訊了解，已經北韓的實況經常被誤解。然而，深入北韓土地，您將能親身感受到這個國家在歷史、文化與現實生活中展現的多面性。無論是與當地人互動，還是感受那近乎停滯的時光，北韓旅遊為冒險家提供了一種無與倫比的獨特經驗。 \n在是次講座中，我們將帶您走遍北韓最具代表性的地標，包括平壤市內的宏大建築與紀念碑、象徵主體思想及領導人崇拜的萬壽臺大紀念碑，北韓風光明媚的妙香山與金剛山，以及探訪板門店的非軍事區，都能讓您更近距離地了解這個國家的文化與政治特色。 \n如果您對探索 北韓 這個神秘國度懷有好奇心，歡迎參與我們的講座，一起開啟一段與眾不同的旅遊想像之旅！
URL:https://travpholer.com/event/0112northkorea/
LOCATION:尖沙咀誠品書店\, Tsim Sha Tsui\, Salisbury Rd\, 3號\, Star House\, 2-3/F\, Kowloon\, Hong Kong
END:VEVENT
END:VCALENDAR