
BEGIN:VCALENDAR
VERSION:2.0
PRODID:-//TravPholer 無待壯遊 - ECPv6.14.1//NONSGML v1.0//EN
CALSCALE:GREGORIAN
METHOD:PUBLISH
X-WR-CALNAME:TravPholer 無待壯遊
X-ORIGINAL-URL:https://travpholer.com
X-WR-CALDESC:Events for TravPholer 無待壯遊
REFRESH-INTERVAL;VALUE=DURATION:PT1H
X-Robots-Tag:noindex
X-PUBLISHED-TTL:PT1H
BEGIN:VTIMEZONE
TZID:Asia/Hong_Kong
BEGIN:STANDARD
TZOFFSETFROM:+0800
TZOFFSETTO:+0800
TZNAME:HKT
DTSTART:20240101T000000
END:STANDARD
END:VTIMEZONE
BEGIN:VEVENT
DTSTART;TZID=Asia/Hong_Kong:20241020T140000
DTEND;TZID=Asia/Hong_Kong:20241020T170000
DTSTAMP:20260419T215812
CREATED:20241016T051342Z
LAST-MODIFIED:20241016T153113Z
UID:10000267-1729432800-1729443600@travpholer.com
SUMMARY:🇰🇵北韓旅行團 + 🇹🇲土庫曼 🇺🇿烏茲別克 介紹會
DESCRIPTION:北韓被視為一個封閉的國家，許多國民非法透過正式途徑出國，網上可獲取的當地資料也有限，所以親身體驗當地文化將會是一個獨特的機會。\n而土庫曼斯坦土庫曼被稱為「中亞北韓」，因為其閉國政策和對外界的限制，讓這個國家充滿神秘感。特別是在卡拉庫姆沙漠的「地獄之門」，這個獨特的自然景觀吸引了眾多旅客前來探秘。 \n烏茲別克則是《一千零一夜》中阿里爸爸與四十大盜故事的起點，位於絲綢之路的心臟地帶，這裡融合了東西方文化，擁有神秘色彩的清真寺和古城，宛如置身於童話故事中的夢幻場景。 \n這次介紹會將為你揭開這三個國家的神秘面紗，帶你踏上難忘的旅程！
URL:https://travpholer.com/event/%e5%8c%97%e9%9f%93%e6%97%85%e8%a1%8c%e5%9c%98-%e5%9c%9f%e5%ba%ab%e6%9b%bc%e7%83%8f%e8%8c%b2%e5%88%a5%e5%85%8b%e4%bb%8b%e7%b4%b9%e6%9c%83/
LOCATION:TravPholer大角咀門市\, 大角咀 嘉善街18號 利奧坊G/F G707舖
CATEGORIES:旅行團產品分享
ATTACH;FMTTYPE=image/jpeg:https://travpholer-media.s3.ap-east-1.amazonaws.com/2024/01/turkmenistan_1-2.jpg
END:VEVENT
END:VCALENDAR