
BEGIN:VCALENDAR
VERSION:2.0
PRODID:-//TravPholer 無待壯遊 - ECPv6.14.1//NONSGML v1.0//EN
CALSCALE:GREGORIAN
METHOD:PUBLISH
X-WR-CALNAME:TravPholer 無待壯遊
X-ORIGINAL-URL:https://travpholer.com
X-WR-CALDESC:Events for TravPholer 無待壯遊
REFRESH-INTERVAL;VALUE=DURATION:PT1H
X-Robots-Tag:noindex
X-PUBLISHED-TTL:PT1H
BEGIN:VTIMEZONE
TZID:Asia/Hong_Kong
BEGIN:STANDARD
TZOFFSETFROM:+0800
TZOFFSETTO:+0800
TZNAME:HKT
DTSTART:20250101T000000
END:STANDARD
END:VTIMEZONE
BEGIN:VEVENT
DTSTART;TZID=Asia/Hong_Kong:20250111T173000
DTEND;TZID=Asia/Hong_Kong:20250111T183000
DTSTAMP:20260420T183847
CREATED:20241224T032715Z
LAST-MODIFIED:20241224T032715Z
UID:10000547-1736616600-1736620200@travpholer.com
SUMMARY:也門🇾🇪：在沙漠地區過聖誕
DESCRIPTION:Linda是一名充滿熱誠的旅遊愛好者，策劃了數十次不同形式的旅程，遊歷了近100個國家，踏遍了千多個城市。Linda從充滿獵奇冒險的旅程，到探索歷史文化的，甚或是原始的、豪華的、悠閒的、艱辛的旅程都曾親身體驗。她曾於某年的聖誕節到遊覽也門，由南也門、再踏上「外星島」－索科特拉島，最後更走進戰爭主要地區－北也門。 \n如你想了解也門慶祝聖誕的方式，不妨到場細聽Linda的不一樣的經歷。
URL:https://travpholer.com/event/lindayemen11012025/
LOCATION:銅鑼灣誠品書店\, 8 樓\, 9 樓\, 10 樓\, Hysan Place\, 500號 Hennessy Rd\, Causeway Bay\, Hong Kong Island\, Hong Kong
END:VEVENT
END:VCALENDAR